BEGIN:VCALENDAR
VERSION:2.0
PRODID:-//BC Ritte Spijkenisse - ECPv5.1.6//NONSGML v1.0//EN
CALSCALE:GREGORIAN
METHOD:PUBLISH
X-WR-CALNAME:BC Ritte Spijkenisse
X-ORIGINAL-URL:https://www.bcrs.nl
X-WR-CALDESC:Evenementen voor BC Ritte Spijkenisse
BEGIN:VTIMEZONE
TZID:Europe/Amsterdam
BEGIN:DAYLIGHT
TZOFFSETFROM:+0100
TZOFFSETTO:+0200
TZNAME:CEST
DTSTART:20170326T010000
END:DAYLIGHT
BEGIN:STANDARD
TZOFFSETFROM:+0200
TZOFFSETTO:+0100
TZNAME:CET
DTSTART:20171029T010000
END:STANDARD
END:VTIMEZONE
BEGIN:VEVENT
DTSTART;TZID=Europe/Amsterdam:20170331T190000
DTEND;TZID=Europe/Amsterdam:20170331T190000
DTSTAMP:20260423T113328
CREATED:20160819T122118Z
LAST-MODIFIED:20160819T122118Z
UID:8223-1490986800-1490986800@www.bcrs.nl
SUMMARY:Training: Jeugd D2
DESCRIPTION:
URL:https://www.bcrs.nl/agenda-item/training-jeugd-d2-70/
CATEGORIES:training
END:VEVENT
END:VCALENDAR