BEGIN:VCALENDAR
VERSION:2.0
PRODID:-//BC Ritte Spijkenisse - ECPv5.1.6//NONSGML v1.0//EN
CALSCALE:GREGORIAN
METHOD:PUBLISH
X-WR-CALNAME:BC Ritte Spijkenisse
X-ORIGINAL-URL:https://www.bcrs.nl
X-WR-CALDESC:Evenementen voor BC Ritte Spijkenisse
BEGIN:VTIMEZONE
TZID:Europe/Amsterdam
BEGIN:DAYLIGHT
TZOFFSETFROM:+0100
TZOFFSETTO:+0200
TZNAME:CEST
DTSTART:20160327T010000
END:DAYLIGHT
BEGIN:STANDARD
TZOFFSETFROM:+0200
TZOFFSETTO:+0100
TZNAME:CET
DTSTART:20161030T010000
END:STANDARD
END:VTIMEZONE
BEGIN:VEVENT
DTSTART;TZID=Europe/Amsterdam:20161210T090000
DTEND;TZID=Europe/Amsterdam:20161211T170000
DTSTAMP:20260423T131218
CREATED:20160909T091412Z
LAST-MODIFIED:20160909T091412Z
UID:8270-1481360400-1481475600@www.bcrs.nl
SUMMARY:RJC-toernooi
DESCRIPTION:
URL:https://www.bcrs.nl/agenda-item/rjc-toernooi/
LOCATION:Sporthal Maaswijk – Zaal
CATEGORIES:evenement,zaal
END:VEVENT
END:VCALENDAR