BEGIN:VCALENDAR
VERSION:2.0
PRODID:-//BC Ritte Spijkenisse - ECPv5.1.6//NONSGML v1.0//EN
CALSCALE:GREGORIAN
METHOD:PUBLISH
X-WR-CALNAME:BC Ritte Spijkenisse
X-ORIGINAL-URL:https://www.bcrs.nl
X-WR-CALDESC:Evenementen voor BC Ritte Spijkenisse
BEGIN:VTIMEZONE
TZID:Europe/Amsterdam
BEGIN:DAYLIGHT
TZOFFSETFROM:+0100
TZOFFSETTO:+0200
TZNAME:CEST
DTSTART:20160327T010000
END:DAYLIGHT
BEGIN:STANDARD
TZOFFSETFROM:+0200
TZOFFSETTO:+0100
TZNAME:CET
DTSTART:20161030T010000
END:STANDARD
END:VTIMEZONE
BEGIN:VEVENT
DTSTART;TZID=Europe/Amsterdam:20161126T090000
DTEND;TZID=Europe/Amsterdam:20161127T200000
DTSTAMP:20260423T113938
CREATED:20160909T091259Z
LAST-MODIFIED:20160909T091259Z
UID:8268-1480150800-1480276800@www.bcrs.nl
SUMMARY:Regio Senioren Kampioenschappen (RSK)
DESCRIPTION:
URL:https://www.bcrs.nl/agenda-item/regio-senioren-kampioenschappen-rsk/
LOCATION:Sporthal Maaswijk – Zaal
CATEGORIES:evenement,zaal
END:VEVENT
END:VCALENDAR