BEGIN:VCALENDAR
VERSION:2.0
PRODID:-//BC Ritte Spijkenisse - ECPv5.1.6//NONSGML v1.0//EN
CALSCALE:GREGORIAN
METHOD:PUBLISH
X-WR-CALNAME:BC Ritte Spijkenisse
X-ORIGINAL-URL:https://www.bcrs.nl
X-WR-CALDESC:Evenementen voor BC Ritte Spijkenisse
BEGIN:VTIMEZONE
TZID:Europe/Amsterdam
BEGIN:DAYLIGHT
TZOFFSETFROM:+0100
TZOFFSETTO:+0200
TZNAME:CEST
DTSTART:20170326T010000
END:DAYLIGHT
BEGIN:STANDARD
TZOFFSETFROM:+0200
TZOFFSETTO:+0100
TZNAME:CET
DTSTART:20171029T010000
END:STANDARD
END:VTIMEZONE
BEGIN:VEVENT
DTSTART;TZID=Europe/Amsterdam:20170331T200000
DTEND;TZID=Europe/Amsterdam:20170331T230000
DTSTAMP:20260423T075711
CREATED:20161216T101620Z
LAST-MODIFIED:20161216T101620Z
UID:9320-1490990400-1491001200@www.bcrs.nl
SUMMARY:Pubquiz VCPO (gesloten evenement)
DESCRIPTION:Jaarlijks terugkerende pubquiz voor docenten van VCPO\, georganiseerd door Nick Bus.
URL:https://www.bcrs.nl/agenda-item/pubquiz-vcpo-gesloten-evenement/
LOCATION:Sporthal Maaswijk – Kantine
CATEGORIES:evenement,kantine
END:VEVENT
END:VCALENDAR