BEGIN:VCALENDAR
VERSION:2.0
PRODID:-//BC Ritte Spijkenisse - ECPv5.1.6//NONSGML v1.0//EN
CALSCALE:GREGORIAN
METHOD:PUBLISH
X-WR-CALNAME:BC Ritte Spijkenisse
X-ORIGINAL-URL:https://www.bcrs.nl
X-WR-CALDESC:Evenementen voor BC Ritte Spijkenisse
BEGIN:VTIMEZONE
TZID:Europe/Amsterdam
BEGIN:DAYLIGHT
TZOFFSETFROM:+0100
TZOFFSETTO:+0200
TZNAME:CEST
DTSTART:20170326T010000
END:DAYLIGHT
BEGIN:STANDARD
TZOFFSETFROM:+0200
TZOFFSETTO:+0100
TZNAME:CET
DTSTART:20171029T010000
END:STANDARD
END:VTIMEZONE
BEGIN:VEVENT
DTSTART;TZID=Europe/Amsterdam:20170407T200000
DTEND;TZID=Europe/Amsterdam:20170407T235500
DTSTAMP:20260423T080258
CREATED:20160909T092440Z
LAST-MODIFIED:20160909T092440Z
UID:8288-1491595200-1491609300@www.bcrs.nl
SUMMARY:Klaverjasavond
DESCRIPTION:
URL:https://www.bcrs.nl/agenda-item/klaverjasavond-4/
LOCATION:Sporthal Maaswijk – Kantine
CATEGORIES:evenement,kantine
END:VEVENT
END:VCALENDAR