BEGIN:VCALENDAR
VERSION:2.0
PRODID:-//BC Ritte Spijkenisse - ECPv5.1.6//NONSGML v1.0//EN
CALSCALE:GREGORIAN
METHOD:PUBLISH
X-WR-CALNAME:BC Ritte Spijkenisse
X-ORIGINAL-URL:https://www.bcrs.nl
X-WR-CALDESC:Evenementen voor BC Ritte Spijkenisse
BEGIN:VTIMEZONE
TZID:Europe/Amsterdam
BEGIN:DAYLIGHT
TZOFFSETFROM:+0100
TZOFFSETTO:+0200
TZNAME:CEST
DTSTART:20160327T010000
END:DAYLIGHT
BEGIN:STANDARD
TZOFFSETFROM:+0200
TZOFFSETTO:+0100
TZNAME:CET
DTSTART:20161030T010000
END:STANDARD
END:VTIMEZONE
BEGIN:VEVENT
DTSTART;TZID=Europe/Amsterdam:20161124T193000
DTEND;TZID=Europe/Amsterdam:20161124T193000
DTSTAMP:20260423T131223
CREATED:20160917T093019Z
LAST-MODIFIED:20160917T093019Z
UID:8304-1480015800-1480015800@www.bcrs.nl
SUMMARY:BCRS ERC 1 – BBC Brielle 1
DESCRIPTION:
URL:https://www.bcrs.nl/agenda-item/bcrs-erc-1-bbc-brielle-1/
CATEGORIES:competitie
END:VEVENT
END:VCALENDAR