BEGIN:VCALENDAR
VERSION:2.0
PRODID:-//BC Ritte Spijkenisse - ECPv5.1.6//NONSGML v1.0//EN
CALSCALE:GREGORIAN
METHOD:PUBLISH
X-WR-CALNAME:BC Ritte Spijkenisse
X-ORIGINAL-URL:https://www.bcrs.nl
X-WR-CALDESC:Evenementen voor BC Ritte Spijkenisse
BEGIN:VTIMEZONE
TZID:Europe/Amsterdam
BEGIN:DAYLIGHT
TZOFFSETFROM:+0100
TZOFFSETTO:+0200
TZNAME:CEST
DTSTART:20170326T010000
END:DAYLIGHT
BEGIN:STANDARD
TZOFFSETFROM:+0200
TZOFFSETTO:+0100
TZNAME:CET
DTSTART:20171029T010000
END:STANDARD
END:VTIMEZONE
BEGIN:VEVENT
DTSTART;TZID=Europe/Amsterdam:20170120T200000
DTEND;TZID=Europe/Amsterdam:20170120T200000
DTSTAMP:20260423T131424
CREATED:20160917T102225Z
LAST-MODIFIED:20160917T102231Z
UID:8394-1484942400-1484942400@www.bcrs.nl
SUMMARY:BCRS 8 – Van Zundert/Velo 10
DESCRIPTION:
URL:https://www.bcrs.nl/agenda-item/bcrs-8-van-zundertvelo-10/
CATEGORIES:competitie
END:VEVENT
END:VCALENDAR