BEGIN:VCALENDAR
VERSION:2.0
PRODID:-//BC Ritte Spijkenisse - ECPv5.1.6//NONSGML v1.0//EN
CALSCALE:GREGORIAN
METHOD:PUBLISH
X-WR-CALNAME:BC Ritte Spijkenisse
X-ORIGINAL-URL:https://www.bcrs.nl
X-WR-CALDESC:Evenementen voor BC Ritte Spijkenisse
BEGIN:VTIMEZONE
TZID:Europe/Amsterdam
BEGIN:DAYLIGHT
TZOFFSETFROM:+0100
TZOFFSETTO:+0200
TZNAME:CEST
DTSTART:20160327T010000
END:DAYLIGHT
BEGIN:STANDARD
TZOFFSETFROM:+0200
TZOFFSETTO:+0100
TZNAME:CET
DTSTART:20161030T010000
END:STANDARD
END:VTIMEZONE
BEGIN:VEVENT
DTSTART;TZID=Europe/Amsterdam:20161119T190000
DTEND;TZID=Europe/Amsterdam:20161119T190000
DTSTAMP:20260423T131346
CREATED:20160917T102224Z
LAST-MODIFIED:20160917T102230Z
UID:8372-1479582000-1479582000@www.bcrs.nl
SUMMARY:BCRS 5 – SV Vridos 3
DESCRIPTION:
URL:https://www.bcrs.nl/agenda-item/bcrs-5-sv-vridos-3/
CATEGORIES:competitie
END:VEVENT
END:VCALENDAR